BEGIN:VCALENDAR
VERSION:2.0
PRODID:-//hacksw/handcal//NONSGML v1.0//EN
BEGIN:VEVENT
DTSTART:20210807T060000Z
DTEND:20210807T160000Z
SUMMARY:Vide-Greniers de la Houle
LOCATION : Rue Victor Hugo\, 35260 Cancale
DESCRIPTION : Plus d'infos sur https://st-malo.net/cancale/vide-greniers-de-la-houle-2021-1188
END:VEVENT
END:VCALENDAR