BEGIN:VCALENDAR
VERSION:2.0
PRODID:-//hacksw/handcal//NONSGML v1.0//EN
BEGIN:VEVENT
DTSTART:20190505T071000Z
DTEND:20190505T090000Z
SUMMARY:La Passagère
LOCATION : 57 boulevard Jules Verger\, 35800 Dinard
DESCRIPTION : Plus d'infos sur https://st-malo.net/dinard/course-pied-la-passagere-2019-673
END:VEVENT
END:VCALENDAR