BEGIN:VCALENDAR
VERSION:2.0
PRODID:-//hacksw/handcal//NONSGML v1.0//EN
BEGIN:VEVENT
DTSTART:20210723T123000Z
DTEND:20210723T143000Z
SUMMARY:Défi de résistance contre la mer
LOCATION : Plage de St-Enogat\, 35800 Dinard
DESCRIPTION : Plus d'infos sur https://st-malo.net/dinard/defi-de-resistance-contre-la-mer-2021-1147
END:VEVENT
END:VCALENDAR