BEGIN:VCALENDAR
VERSION:2.0
PRODID:-//hacksw/handcal//NONSGML v1.0//EN
BEGIN:VEVENT
DTSTART:20210810T123000Z
DTEND:20210810T153000Z
SUMMARY:Défi du plus beau château de sable
LOCATION : Plage de l’Écluse\, 35800 Dinard
DESCRIPTION : Plus d'infos sur https://st-malo.net/dinard/defi-du-plus-beau-chateau-de-sable-2021-1190
END:VEVENT
END:VCALENDAR