BEGIN:VCALENDAR
VERSION:2.0
PRODID:-//hacksw/handcal//NONSGML v1.0//EN
BEGIN:VEVENT
DTSTART:20180520T130000Z
DTEND:20180520T143000Z
SUMMARY:Odorico et l'art de la mosaïque
LOCATION : 2 Boulevard Féart\, 35800 Dinard
DESCRIPTION : Plus d'infos sur https://st-malo.net/dinard/visites-odorico-et-art-de-la-mosaique-dinard-2018-143
END:VEVENT
END:VCALENDAR