BEGIN:VCALENDAR
VERSION:2.0
PRODID:-//hacksw/handcal//NONSGML v1.0//EN
BEGIN:VEVENT
DTSTART:20180603T080000Z
DTEND:20180603T100000Z
SUMMARY:Cueillette et dégustation de plantes sauvages comestibles
LOCATION : Abbaye du Tronchet\, 35540 Le Tronchet
DESCRIPTION : Plus d'infos sur https://st-malo.net/le-tronchet/cueillette-et-de-gustation-de-plantes-sauvages-comestibles-2018-153
END:VEVENT
END:VCALENDAR