BEGIN:VCALENDAR
VERSION:2.0
PRODID:-//hacksw/handcal//NONSGML v1.0//EN
BEGIN:VEVENT
DTSTART:20180530T120000Z
DTEND:20180530T160000Z
SUMMARY:Balade et nettoyage de l’étang de beaufort
LOCATION : Le Pont Allain\, 35540 Plerguer
DESCRIPTION : Plus d'infos sur https://st-malo.net/plerguer/balade-et-nettoyage-de-tang-de-beaufort-2018-147
END:VEVENT
END:VCALENDAR