BEGIN:VCALENDAR
VERSION:2.0
PRODID:-//hacksw/handcal//NONSGML v1.0//EN
BEGIN:VEVENT
DTSTART:20181014T070000Z
DTEND:20181014T140000Z
SUMMARY:Braderie enfants et jouets
LOCATION : 4 rue du Champ Jouan\, 35540 Plerguer
DESCRIPTION : Plus d'infos sur https://st-malo.net/plerguer/braderie-enfants-et-jouets-2018-198
END:VEVENT
END:VCALENDAR