BEGIN:VCALENDAR
VERSION:2.0
PRODID:-//hacksw/handcal//NONSGML v1.0//EN
BEGIN:VEVENT
DTSTART:20180526T070000Z
DTEND:20180527T160000Z
SUMMARY:Fête des Badious
LOCATION : Salle Chateaubriand\, 35540 Plerguer
DESCRIPTION : Plus d'infos sur https://st-malo.net/plerguer/fete-des-badious-2018-56
END:VEVENT
END:VCALENDAR