BEGIN:VCALENDAR
VERSION:2.0
PRODID:-//hacksw/handcal//NONSGML v1.0//EN
BEGIN:VEVENT
DTSTART:20180714T180000Z
DTEND:20180714T213000Z
SUMMARY:Feu d'artifice de Plerguer
LOCATION : Terrain des sports\, 35540 Plerguer
DESCRIPTION : Plus d'infos sur https://st-malo.net/plerguer/feu-artifice-de-plerguer-2018-233
END:VEVENT
END:VCALENDAR