BEGIN:VCALENDAR
VERSION:2.0
PRODID:-//hacksw/handcal//NONSGML v1.0//EN
BEGIN:VEVENT
DTSTART:20190728T070000Z
DTEND:20190728T150000Z
SUMMARY:Vide-greniers de Plerguer
LOCATION : Rue Pierre Romé\, 35540 Plerguer
DESCRIPTION : Plus d'infos sur https://st-malo.net/plerguer/vide-greniers-de-plerguer-2019-944
END:VEVENT
END:VCALENDAR