BEGIN:VCALENDAR
VERSION:2.0
PRODID:-//hacksw/handcal//NONSGML v1.0//EN
BEGIN:VEVENT
DTSTART:20240425T070000Z
DTEND:20240425T160000Z
SUMMARY:Vide-greniers de Plerguer
LOCATION : Centre-bourg\, 35540 Plerguer
DESCRIPTION : Plus d'infos sur https://st-malo.net/plerguer/vide-greniers-de-plerguer-2024-1330
END:VEVENT
END:VCALENDAR