BEGIN:VCALENDAR
VERSION:2.0
PRODID:-//hacksw/handcal//NONSGML v1.0//EN
BEGIN:VEVENT
DTSTART:20180915T080000Z
DTEND:20180915T100000Z
SUMMARY:Nettoyage de la plage des Chevrets
LOCATION : Plage des Chevrets\, 35350 Saint-Coulomb
DESCRIPTION : Plus d'infos sur https://st-malo.net/saint-coulomb/nettoyage-de-la-plage-des-chevrets-2018-393
END:VEVENT
END:VCALENDAR