BEGIN:VCALENDAR
VERSION:2.0
PRODID:-//hacksw/handcal//NONSGML v1.0//EN
BEGIN:VEVENT
DTSTART:20181026T130000Z
DTEND:20181026T133000Z
SUMMARY:Baptême de l'Imoca de Manuel Cousin
LOCATION : Bassin Duguay Trouin\, 35400 Saint-Malo
DESCRIPTION : Plus d'infos sur https://st-malo.net/saint-malo/bapteme-de-imoca-de-manuel-cousin-2018-468
END:VEVENT
END:VCALENDAR