BEGIN:VCALENDAR
VERSION:2.0
PRODID:-//hacksw/handcal//NONSGML v1.0//EN
BEGIN:VEVENT
DTSTART:20220223T193000Z
DTEND:20220223T210000Z
SUMMARY:Feu! Chatterton
LOCATION : Rue des Acadiens\, 35400 Saint-Malo
DESCRIPTION : Plus d'infos sur https://st-malo.net/saint-malo/feu-chatterton-2022-1277
END:VEVENT
END:VCALENDAR