BEGIN:VCALENDAR
VERSION:2.0
PRODID:-//hacksw/handcal//NONSGML v1.0//EN
BEGIN:VEVENT
DTSTART:20180812T113000Z
DTEND:20180812T133000Z
SUMMARY:Angleterre - Mexique - Coupe du monde Féminine U20
LOCATION : 3 Rue de Tunis\, 35400 Saint-Malo
DESCRIPTION : Plus d'infos sur https://st-malo.net/saint-malo/football-angleterre-mexique-coupe-du-monde-feminine-u20-2018-277
END:VEVENT
END:VCALENDAR