BEGIN:VCALENDAR
VERSION:2.0
PRODID:-//hacksw/handcal//NONSGML v1.0//EN
BEGIN:VEVENT
DTSTART:20180806T143000Z
DTEND:20180806T163000Z
SUMMARY:Haïti - Chine - Coupe du monde Féminine U20
LOCATION : 3 Rue de Tunis\, 35400 Saint-Malo
DESCRIPTION : Plus d'infos sur https://st-malo.net/saint-malo/football-haiti-chine-coupe-du-monde-feminine-u20-2018-274
END:VEVENT
END:VCALENDAR