BEGIN:VCALENDAR
VERSION:2.0
PRODID:-//hacksw/handcal//NONSGML v1.0//EN
BEGIN:VEVENT
DTSTART:20180812T143000Z
DTEND:20180812T163000Z
SUMMARY:Pays-Bas - France - Coupe du monde Féminine U20
LOCATION : 3 Rue de Tunis\, 35400 Saint-Malo
DESCRIPTION : Plus d'infos sur https://st-malo.net/saint-malo/football-pays-bas-france-coupe-du-monde-feminine-u20-2018-278
END:VEVENT
END:VCALENDAR