BEGIN:VCALENDAR
VERSION:2.0
PRODID:-//hacksw/handcal//NONSGML v1.0//EN
BEGIN:VEVENT
DTSTART:20200222T170000Z
DTEND:20200222T190000Z
SUMMARY:US Saint-Malo - AS Vitré
LOCATION : -\, 35400 Saint-Malo
DESCRIPTION : Plus d'infos sur https://st-malo.net/saint-malo/football-us-saint-malo-as-vitre-2020-1032
END:VEVENT
END:VCALENDAR