BEGIN:VCALENDAR
VERSION:2.0
PRODID:-//hacksw/handcal//NONSGML v1.0//EN
BEGIN:VEVENT
DTSTART:20200509T160000Z
DTEND:20200509T180000Z
SUMMARY:US Saint-Malo - CMS Oissel
LOCATION : -\, 35400 Saint-Malo
DESCRIPTION : Plus d'infos sur https://st-malo.net/saint-malo/football-us-saint-malo-cms-oissel-2020-1036
END:VEVENT
END:VCALENDAR