BEGIN:VCALENDAR
VERSION:2.0
PRODID:-//hacksw/handcal//NONSGML v1.0//EN
BEGIN:VEVENT
DTSTART:20191019T160000Z
DTEND:20191019T180000Z
SUMMARY:US Saint-Malo - EA Guingamp 2
LOCATION : 3 Rue de Tunis\, 35400 Saint-Malo
DESCRIPTION : Plus d'infos sur https://st-malo.net/saint-malo/football-us-saint-malo-ea-guingamp-2-2019-1026
END:VEVENT
END:VCALENDAR