BEGIN:VCALENDAR
VERSION:2.0
PRODID:-//hacksw/handcal//NONSGML v1.0//EN
BEGIN:VEVENT
DTSTART:20200119T133000Z
DTEND:20200119T153000Z
SUMMARY:US Saint-Malo - E.S.O.F La Roche sur Yon D2F
LOCATION : 3 Rue de Tunis\, 35400 Saint-Malo
DESCRIPTION : Plus d'infos sur https://st-malo.net/saint-malo/football-us-saint-malo-esof-la-roche-sur-yon-2020-1078
END:VEVENT
END:VCALENDAR