BEGIN:VCALENDAR
VERSION:2.0
PRODID:-//hacksw/handcal//NONSGML v1.0//EN
BEGIN:VEVENT
DTSTART:20200314T170000Z
DTEND:20200314T190000Z
SUMMARY:US Saint-Malo - FC Fleury 91
LOCATION : -\, 35400 Saint-Malo
DESCRIPTION : Plus d'infos sur https://st-malo.net/saint-malo/football-us-saint-malo-fc-fleury-91-2020-1033
END:VEVENT
END:VCALENDAR