BEGIN:VCALENDAR
VERSION:2.0
PRODID:-//hacksw/handcal//NONSGML v1.0//EN
BEGIN:VEVENT
DTSTART:20200329T130000Z
DTEND:20200329T150000Z
SUMMARY:US Saint-Malo - Issy Foot Féminin D2F
LOCATION : 3 Rue de Tunis\, 35400 Saint-Malo
DESCRIPTION : Plus d'infos sur https://st-malo.net/saint-malo/football-us-saint-malo-issy-foot-feminin-d2f-2020-1081
END:VEVENT
END:VCALENDAR