BEGIN:VCALENDAR
VERSION:2.0
PRODID:-//hacksw/handcal//NONSGML v1.0//EN
BEGIN:VEVENT
DTSTART:20200418T160000Z
DTEND:20200418T180000Z
SUMMARY:US Saint-Malo - Stade Briochin
LOCATION : -\, 35400 Saint-Malo
DESCRIPTION : Plus d'infos sur https://st-malo.net/saint-malo/football-us-saint-malo-stade-briochin-2020-1035
END:VEVENT
END:VCALENDAR