BEGIN:VCALENDAR
VERSION:2.0
PRODID:-//hacksw/handcal//NONSGML v1.0//EN
BEGIN:VEVENT
DTSTART:20190831T160000Z
DTEND:20190831T180000Z
SUMMARY:US Saint-Malo - US Granville
LOCATION : 3 Rue de Tunis\, 35400 Saint-Malo
DESCRIPTION : Plus d'infos sur https://st-malo.net/saint-malo/football-us-saint-malo-us-granville-2019-1024
END:VEVENT
END:VCALENDAR