BEGIN:VCALENDAR
VERSION:2.0
PRODID:-//hacksw/handcal//NONSGML v1.0//EN
BEGIN:VEVENT
DTSTART:20180407T160000Z
DTEND:20180407T180000Z
SUMMARY:USSM / FC Chartres
LOCATION : 3 Rue de Tunis\, 35400 Saint-Malo
DESCRIPTION : Plus d'infos sur https://st-malo.net/saint-malo/football-ussm-fc-chartres-2018-44
END:VEVENT
END:VCALENDAR