BEGIN:VCALENDAR
VERSION:2.0
PRODID:-//hacksw/handcal//NONSGML v1.0//EN
BEGIN:VEVENT
DTSTART:20190223T140000Z
DTEND:20190223T160000Z
SUMMARY:USSM - Furiani
LOCATION : 3 Rue de Tunis\, 35400 Saint-Malo
DESCRIPTION : Plus d'infos sur https://st-malo.net/saint-malo/football-ussm-furiani-2019-651
END:VEVENT
END:VCALENDAR