BEGIN:VCALENDAR
VERSION:2.0
PRODID:-//hacksw/handcal//NONSGML v1.0//EN
BEGIN:VEVENT
DTSTART:20190525T160000Z
DTEND:20190525T180000Z
SUMMARY:USSM - Le Havre B
LOCATION : 3 Rue de Tunis\, 35400 Saint-Malo
DESCRIPTION : Plus d'infos sur https://st-malo.net/saint-malo/football-ussm-le-havre-2019-656
END:VEVENT
END:VCALENDAR