BEGIN:VCALENDAR
VERSION:2.0
PRODID:-//hacksw/handcal//NONSGML v1.0//EN
BEGIN:VEVENT
DTSTART:20190202T170000Z
DTEND:20190202T190000Z
SUMMARY:USSM - Poissy
LOCATION : 3 Rue de Tunis\, 35400 Saint-Malo
DESCRIPTION : Plus d'infos sur https://st-malo.net/saint-malo/football-ussm-poissy-2019-650
END:VEVENT
END:VCALENDAR