BEGIN:VCALENDAR
VERSION:2.0
PRODID:-//hacksw/handcal//NONSGML v1.0//EN
BEGIN:VEVENT
DTSTART:20181222T170000Z
DTEND:20181222T190000Z
SUMMARY:USSM - PSG
LOCATION : 3 Rue de Tunis\, 35400 Saint-Malo
DESCRIPTION : Plus d'infos sur https://st-malo.net/saint-malo/football-ussm-psg-2018-285
END:VEVENT
END:VCALENDAR