BEGIN:VCALENDAR
VERSION:2.0
PRODID:-//hacksw/handcal//NONSGML v1.0//EN
BEGIN:VEVENT
DTSTART:20180512T160000Z
DTEND:20180512T180000Z
SUMMARY:USSM - St Pryve St Hilaire
LOCATION : 3 Rue de Tunis\, 35400 Saint-Malo
DESCRIPTION : Plus d'infos sur https://st-malo.net/saint-malo/football-ussm-st-pryve-st-hilaire-2018-130
END:VEVENT
END:VCALENDAR