BEGIN:VCALENDAR
VERSION:2.0
PRODID:-//hacksw/handcal//NONSGML v1.0//EN
BEGIN:VEVENT
DTSTART:20180421T160000Z
DTEND:20180421T180000Z
SUMMARY:USSM - Stade Briochin
LOCATION : 3 Rue de Tunis\, 35400 Saint-Malo
DESCRIPTION : Plus d'infos sur https://st-malo.net/saint-malo/football-ussm-stade-briochin-2018-54
END:VEVENT
END:VCALENDAR