BEGIN:VCALENDAR
VERSION:2.0
PRODID:-//hacksw/handcal//NONSGML v1.0//EN
BEGIN:VEVENT
DTSTART:20190406T160000Z
DTEND:20190406T180000Z
SUMMARY:USSM - Vitré
LOCATION : 3 Rue de Tunis\, 35400 Saint-Malo
DESCRIPTION : Plus d'infos sur https://st-malo.net/saint-malo/football-ussm-vitre-2019-653
END:VEVENT
END:VCALENDAR