BEGIN:VCALENDAR
VERSION:2.0
PRODID:-//hacksw/handcal//NONSGML v1.0//EN
BEGIN:VEVENT
DTSTART:20210724T120000Z
DTEND:20210724T143000Z
SUMMARY:Jeux d'O
LOCATION : Piscine de Bon Secours\, 35400 Saint-Malo
DESCRIPTION : Plus d'infos sur https://st-malo.net/saint-malo/jeux-2021-1148
END:VEVENT
END:VCALENDAR