BEGIN:VCALENDAR
VERSION:2.0
PRODID:-//hacksw/handcal//NONSGML v1.0//EN
BEGIN:VEVENT
DTSTART:20181021T080000Z
DTEND:20181021T160000Z
SUMMARY:Journée du Soleil chez Max Aventure
LOCATION : 38 rue de la grassinais\, 35400 Saint-Malo
DESCRIPTION : Plus d'infos sur https://st-malo.net/saint-malo/journee-du-soleil-chez-max-aventure-2018-438
END:VEVENT
END:VCALENDAR