BEGIN:VCALENDAR
VERSION:2.0
PRODID:-//hacksw/handcal//NONSGML v1.0//EN
BEGIN:VEVENT
DTSTART:20211208T153000Z
DTEND:20211208T163000Z
SUMMARY:Le magicien des couleurs
LOCATION : 6 rue Groult St Georges\, 35400 Saint-Malo
DESCRIPTION : Plus d'infos sur https://st-malo.net/saint-malo/le-magicien-des-couleurs-2021-1302
END:VEVENT
END:VCALENDAR