BEGIN:VCALENDAR
VERSION:2.0
PRODID:-//hacksw/handcal//NONSGML v1.0//EN
BEGIN:VEVENT
DTSTART:20181029T150000Z
DTEND:20181030T153000Z
SUMMARY:Musique et danse guadeloupéennes
LOCATION : Fosse aux lions\, 35400 Saint-Malo
DESCRIPTION : Plus d'infos sur https://st-malo.net/saint-malo/musique-et-danse-guadeloupeennes-2018-478
END:VEVENT
END:VCALENDAR