BEGIN:VCALENDAR
VERSION:2.0
PRODID:-//hacksw/handcal//NONSGML v1.0//EN
BEGIN:VEVENT
DTSTART:20180915T130000Z
DTEND:20180915T140000Z
SUMMARY:Nettoyage de la plage des Sablons
LOCATION : Plage des sablons\, 35400 Saint-Malo
DESCRIPTION : Plus d'infos sur https://st-malo.net/saint-malo/nettoyage-de-la-plage-des-sablons-2018-396
END:VEVENT
END:VCALENDAR