BEGIN:VCALENDAR
VERSION:2.0
PRODID:-//hacksw/handcal//NONSGML v1.0//EN
BEGIN:VEVENT
DTSTART:20180915T120000Z
DTEND:20180915T140000Z
SUMMARY:Nettoyage de la plage du Pont
LOCATION : Plage du Pont\, 35400 Saint-Malo
DESCRIPTION : Plus d'infos sur https://st-malo.net/saint-malo/nettoyage-de-la-plage-du-pont-2018-394
END:VEVENT
END:VCALENDAR