BEGIN:VCALENDAR
VERSION:2.0
PRODID:-//hacksw/handcal//NONSGML v1.0//EN
BEGIN:VEVENT
DTSTART:20180915T100000Z
DTEND:20180915T130000Z
SUMMARY:Nettoyage de Saint-Malo
LOCATION : 3 Rue de Tunis\, 35400 Saint-Malo
DESCRIPTION : Plus d'infos sur https://st-malo.net/saint-malo/nettoyage-de-saint-malo-2018-399
END:VEVENT
END:VCALENDAR