BEGIN:VCALENDAR
VERSION:2.0
PRODID:-//hacksw/handcal//NONSGML v1.0//EN
BEGIN:VEVENT
DTSTART:20180915T130000Z
DTEND:20180915T160000Z
SUMMARY:Nettoyage des Sablons et d'Aleth
LOCATION : Plage des Sablons\, 35400 Saint-Malo
DESCRIPTION : Plus d'infos sur https://st-malo.net/saint-malo/nettoyage-des-sablons-et-aleth-2018-398
END:VEVENT
END:VCALENDAR