BEGIN:VCALENDAR
VERSION:2.0
PRODID:-//hacksw/handcal//NONSGML v1.0//EN
BEGIN:VEVENT
DTSTART:20190808T070000Z
DTEND:20190811T170000Z
SUMMARY:Branlebas de Régates
LOCATION : Port des Sablons\, 35400 Saint-Malo
DESCRIPTION : Plus d'infos sur https://st-malo.net/saint-malo/regate-branlebas-de-regates-2019-649
END:VEVENT
END:VCALENDAR