BEGIN:VCALENDAR
VERSION:2.0
PRODID:-//hacksw/handcal//NONSGML v1.0//EN
BEGIN:VEVENT
DTSTART:20211111T170000Z
DTEND:20211111T183000Z
SUMMARY:Rencontre avec Yoram Leker
LOCATION : 2 rue Nicolas Bouvier\, 35400 Saint-Malo
DESCRIPTION : Plus d'infos sur https://st-malo.net/saint-malo/rencontre-avec-yoram-leker-2021-1275
END:VEVENT
END:VCALENDAR