BEGIN:VCALENDAR
VERSION:2.0
PRODID:-//hacksw/handcal//NONSGML v1.0//EN
BEGIN:VEVENT
DTSTART:20180915T080000Z
DTEND:20180923T170000Z
SUMMARY:Open de Tennis 35
LOCATION : 3 Rue de Tunis\, 35400 Saint-Malo
DESCRIPTION : Plus d'infos sur https://st-malo.net/saint-malo/tennis-open-de-tennis-35-2018-119
END:VEVENT
END:VCALENDAR