BEGIN:VCALENDAR
VERSION:2.0
PRODID:-//hacksw/handcal//NONSGML v1.0//EN
BEGIN:VEVENT
DTSTART:20211021T160000Z
DTEND:20211021T173000Z
SUMMARY:Tiffany Tavernier
LOCATION : 2 rue Nicolas Bouvier\, 35400 Saint-Malo
DESCRIPTION : Plus d'infos sur https://st-malo.net/saint-malo/tiffany-tavernier-2021-1261
END:VEVENT
END:VCALENDAR