BEGIN:VCALENDAR
VERSION:2.0
PRODID:-//hacksw/handcal//NONSGML v1.0//EN
BEGIN:VEVENT
DTSTART:20181026T113000Z
DTEND:20181030T143000Z
SUMMARY:Trophée des Saintoises
LOCATION : Bassin Vauban\, 35400 Saint-Malo
DESCRIPTION : Plus d'infos sur https://st-malo.net/saint-malo/trophee-des-saintoises-2018-467
END:VEVENT
END:VCALENDAR