BEGIN:VCALENDAR
VERSION:2.0
PRODID:-//hacksw/handcal//NONSGML v1.0//EN
BEGIN:VEVENT
DTSTART:20200108T180000Z
DTEND:20200108T200000Z
SUMMARY:US Saint-Malo - Stade Brestois D2F
LOCATION : 3 Rue de Tunis\, 35400 Saint-Malo
DESCRIPTION : Plus d'infos sur https://st-malo.net/saint-malo/us-saint-malo-stade-brestois-d2f-2020-1077
END:VEVENT
END:VCALENDAR