BEGIN:VCALENDAR
VERSION:2.0
PRODID:-//hacksw/handcal//NONSGML v1.0//EN
BEGIN:VEVENT
DTSTART:20180908T080000Z
DTEND:20180908T160000Z
SUMMARY:Village des associations
LOCATION : 3 Rue de Tunis\, 35400 Saint-Malo
DESCRIPTION : Plus d'infos sur https://st-malo.net/saint-malo/village-des-associations-2018-315
END:VEVENT
END:VCALENDAR