BEGIN:VCALENDAR
VERSION:2.0
PRODID:-//hacksw/handcal//NONSGML v1.0//EN
BEGIN:VEVENT
DTSTART:20211212T140000Z
DTEND:20211212T160000Z
SUMMARY:La Boom des Lutins
LOCATION : 32 rue d’Emeraude\, 35350 Saint-Méloir-des-Ondes
DESCRIPTION : Plus d'infos sur https://st-malo.net/saint-meloir-des-ondes/la-boom-des-lutins-2021-1282
END:VEVENT
END:VCALENDAR